BEGIN:VCALENDAR
VERSION:2.0
PRODID:-//Sam Noble Museum - ECPv6.15.20//NONSGML v1.0//EN
CALSCALE:GREGORIAN
METHOD:PUBLISH
X-WR-CALNAME:Sam Noble Museum
X-ORIGINAL-URL:https://samnoblemuseum.ou.edu
X-WR-CALDESC:Events for Sam Noble Museum
REFRESH-INTERVAL;VALUE=DURATION:PT1H
X-Robots-Tag:noindex
X-PUBLISHED-TTL:PT1H
BEGIN:VTIMEZONE
TZID:America/Chicago
BEGIN:DAYLIGHT
TZOFFSETFROM:-0600
TZOFFSETTO:-0500
TZNAME:CDT
DTSTART:20250309T080000
END:DAYLIGHT
BEGIN:STANDARD
TZOFFSETFROM:-0500
TZOFFSETTO:-0600
TZNAME:CST
DTSTART:20251102T070000
END:STANDARD
BEGIN:DAYLIGHT
TZOFFSETFROM:-0600
TZOFFSETTO:-0500
TZNAME:CDT
DTSTART:20260308T080000
END:DAYLIGHT
BEGIN:STANDARD
TZOFFSETFROM:-0500
TZOFFSETTO:-0600
TZNAME:CST
DTSTART:20261101T070000
END:STANDARD
BEGIN:DAYLIGHT
TZOFFSETFROM:-0600
TZOFFSETTO:-0500
TZNAME:CDT
DTSTART:20270314T080000
END:DAYLIGHT
BEGIN:STANDARD
TZOFFSETFROM:-0500
TZOFFSETTO:-0600
TZNAME:CST
DTSTART:20271107T070000
END:STANDARD
END:VTIMEZONE
BEGIN:VEVENT
DTSTART;TZID=America/Chicago:20260321T110000
DTEND;TZID=America/Chicago:20260719T120000
DTSTAMP:20260424T201046
CREATED:20251125T161110Z
LAST-MODIFIED:20260319T134625Z
UID:119939-1774090800-1784462400@samnoblemuseum.ou.edu
SUMMARY:Stories & Specimens
DESCRIPTION:(Best Suited for Ages 3-10) Every Saturday at 11 a.m. we’re hosting Stories & Specimens for children and families! In this engaging program\, children are invited to gather for a lively story time\, where fascinating tales spark curiosity and set the stage for exploration. Each session dives into a themed topic\, connecting stories to science and cultural history with museum objects that let kids see\, touch\, and discover in our interactive Discovery Room. Best of all\, Stories & Specimens is included free with museum admission\, making it the perfect way for young learners to enjoy interactive storytelling and hands-on exploration all in one visit!
URL:https://samnoblemuseum.ou.edu/calendar/stories-specimens/
LOCATION:Sam Noble Museum\, 2401 Chautauqua Ave\, Norman\, OK\, 73072
ATTACH;FMTTYPE=image/png:https://samnoblemuseum.ou.edu/wp-content/uploads/2025/11/03e94c7f-79b8-4018-8b9f-d4d6a4c883f7.png
END:VEVENT
BEGIN:VEVENT
DTSTART;TZID=America/Chicago:20260325T110000
DTEND;TZID=America/Chicago:20260723T120000
DTSTAMP:20260424T201046
CREATED:20251125T160944Z
LAST-MODIFIED:20260319T134600Z
UID:119937-1774436400-1784808000@samnoblemuseum.ou.edu
SUMMARY:Crafts and Tales
DESCRIPTION:(Best Suited for Ages 3-10) Every Wednesday at 11 a.m. we bring stories to life with Crafts and Tales at the Sam Noble Oklahoma Museum of Natural History! In this engaging program\, children are invited to gather for a lively story time\, where fascinating tales spark curiosity and set the stage for exploration. Each session dives into a themed topic\, connecting stories to science and cultural history with museum objects that let kids see\, touch\, and discover in our interactive Discovery Room. After our story\, kids can get creative with a fun craft inspired by the story’s theme—something special to take home as a reminder of their adventure. Best of all\, Crafts and Tales is included free with museum admission\, making it the perfect way for young learners to enjoy interactive storytelling\, hands-on exploration\, and artistic expression all in one visit!
URL:https://samnoblemuseum.ou.edu/calendar/crafts-and-tales-2/
LOCATION:Sam Noble Museum\, 2401 Chautauqua Ave\, Norman\, OK\, 73072
ATTACH;FMTTYPE=image/jpeg:https://samnoblemuseum.ou.edu/wp-content/uploads/2024/05/CraftsandTales-All-Graphics_Horizontal-Social-Ad-Graphic-copy-scaled.jpg
END:VEVENT
BEGIN:VEVENT
DTSTART;TZID=America/Chicago:20260424T160000
DTEND;TZID=America/Chicago:20260622T170000
DTSTAMP:20260424T201046
CREATED:20260220T205411Z
LAST-MODIFIED:20260319T134236Z
UID:120383-1777046400-1782147600@samnoblemuseum.ou.edu
SUMMARY:Teen Volunteer Program - Registration Deadline
DESCRIPTION:Are you a teenager who nerds out about natural or cultural history? Are you looking for a cool place to spend your summer? Are you hoping to gain practical experience in a museum setting? If so\, then the Sam Noble Oklahoma Museum of Natural History has the perfect opportunity for you!  \nDuring our free seven-week Teen Volunteer Program\, museum enthusiasts ages 13 to 17 will explore Oklahoma’s natural and cultural history through exclusive behind-the-scenes tours and conversations with museum professionals. Through volunteer opportunities\, participants will learn from hands-on experience in the museum. At the end of the program participants will showcase what they learned in a fair for their friends and family.  \nClick here to register!
URL:https://samnoblemuseum.ou.edu/calendar/teen-volunteer-program/
LOCATION:Sam Noble Museum\, 2401 Chautauqua Ave\, Norman\, OK\, 73072
ATTACH;FMTTYPE=image/png:https://samnoblemuseum.ou.edu/wp-content/uploads/2026/02/Web-Graphic-2.png
END:VEVENT
END:VCALENDAR